BEGIN:VCALENDAR
VERSION:2.0
PRODID:icalendar-ruby
CALSCALE:GREGORIAN
METHOD:PUBLISH
BEGIN:VEVENT
DTSTAMP:20260423T000659Z
UID:12-521160@roselleunited.tithelysetup5.com
DTSTART:20261101T163000Z
DTEND:20261101T173000Z
CLASS:PUBLIC
CREATED:20260422T162629
DESCRIPTION:Sunday Worship
LAST-MODIFIED:20260422T162629
LOCATION:
SUMMARY:Sunday Worship
URL;VALUE=URI:https://roselleumc.org/events/sunday-worship/2026-11-01
ATTACH;FILENAME=sanctuary-2021.jpg;FMTTYPE=image/jpeg:https://dq5pwpg1q8ru0
 .cloudfront.net/2025/12/23/12/33/11/9d416673-2f6c-4a59-9ed5-77561f0deb59/s
 anctuary-2021.jpg
END:VEVENT
END:VCALENDAR
